{"text_format":"3","workbook":"xlsx","n_sheets":5,"sheets":["入力シート","送り状","様式－４","様式－５","様式－６"],"not_rendered":{"images":11,"macros":1,"defined_names":81},"read":"whole","date_system":"1900"}

{"sheet":"入力シート","index":0,"n_rows":69,"n_cols":128,"rows_kept":69,"merged":[[1,121,1,122],[1,132,1,133],[2,121,2,122],[3,47,3,49],[5,1,5,9],[5,10,5,12],[5,13,5,15],[5,17,5,19],[5,20,5,22],[5,23,5,25],[5,28,5,38],[5,39,5,46],[5,69,5,93],[7,2,7,9],[7,11,7,14],[7,15,7,17],[7,18,7,20],[7,21,7,23],[7,24,7,26],[7,27,7,29],[7,30,7,32],[7,33,7,58],[8,2,8,9],[8,11,8,58],[9,2,9,9],[9,11,9,58],[10,2,10,9],[10,11,10,58],[11,2,11,9],[11,11,11,14],[11,15,11,17],[11,18,11,20],[11,21,11,23],[11,24,11,26],[11,27,11,29],[11,30,11,33],[11,34,11,37],[11,38,11,40],[11,41,11,43],[11,44,11,46],[11,47,11,49],[11,50,11,52],[11,53,11,55],[13,1,19,4],[13,6,13,12],[13,14,13,54],[14,6,14,12],[14,14,14,54],[15,6,15,12],[15,14,15,21],[15,22,15,24],[15,25,15,27],[15,28,15,30],[15,31,15,33],[15,34,15,36],[15,37,15,41],[16,6,16,12],[16,14,16,21],[16,22,16,54],[17,6,17,12],[17,14,17,16],[17,17,17,18],[17,19,17,22],[18,6,18,12],[18,14,18,18],[18,19,18,20],[18,21,18,25],[18,26,18,27],[18,28,18,32],[18,33,18,37],[18,38,18,54],[19,6,19,12],[19,14,19,54],[20,1,26,4],[20,6,20,12],[20,14,20,54],[21,6,21,12],[21,14,21,54],[22,6,22,12],[22,14,22,54],[23,6,23,12],[23,14,23,16],[23,17,23,18],[23,19,23,22],[24,6,24,12],[24,14,24,18],[24,19,24,20],[24,21,24,25],[24,26,24,27],[24,28,24,32],[24,33,24,35],[24,36,24,40],[24,41,24,42],[24,43,24,47],[24,48,24,49],[24,50,24,54],[25,6,25,12],[25,14,25,54],[26,6,26,12],[26,14,26,54],[28,2,28,9],[28,11,28,14],[28,15,28,17],[28,18,28,20],[28,21,28,23],[28,24,28,26],[30,1,32,4],[30,6,30,12],[30,14,30,17],[30,18,30,20],[30,21,30,23],[30,24,30,26],[30,27,30,29],[30,30,30,32],[30,33,30,35],[31,6,31,12],[31,14,31,35],[32,6,32,12],[32,14,32,35],[34,2,34,12],[34,14,34,16],[34,17,34,19],[34,20,34,22],[34,23,34,26],[34,27,34,29],[34,30,34,32],[34,33,34,35],[34,36,34,38],[34,39,34,41],[34,42,34,45],[34,46,34,49],[34,50,34,52],[34,53,34,55],[34,56,34,58],[34,59,34,61],[34,62,34,64],[34,65,34,68],[36,2,36,12],[36,14,36,16],[36,17,36,19],[36,20,36,22],[36,23,36,26],[36,27,36,29],[36,30,36,32],[36,33,36,35],[36,36,36,38],[36,39,36,41],[36,42,36,44],[38,1,42,4],[38,6,38,27],[38,29,38,46],[38,47,38,61],[39,6,39,27],[39,29,39,31],[39,32,39,34],[39,35,39,37],[39,38,39,40],[39,41,39,43],[39,44,39,46],[39,47,39,59],[39,60,39,61],[40,6,40,27],[40,29,40,31],[40,32,40,34],[40,35,40,37],[40,38,40,40],[40,41,40,43],[40,44,40,46],[40,47,40,59],[40,60,40,61],[41,6,41,27],[41,29,41,31],[41,32,41,34],[41,35,41,37],[41,38,41,40],[41,41,41,43],[41,44,41,46],[41,47,41,59],[41,60,41,61],[42,6,42,27],[42,29,42,31],[42,32,42,34],[42,35,42,37],[42,38,42,40],[42,41,42,43],[42,44,42,46],[42,47,42,59],[42,60,42,61]]}
[{"$nulls":119},"曜日を抽出"]
[null,"プレストレスト・コンクリート工事業協会",{"$nulls":117},{"$f":"\"r\"&P12&\"/\"&V12&\"/\"&AB12","v":"r//"},null,{"$f":"DATEVALUE(DP2)","v":{"$error":"#VALUE!"}},null,{"$f":"DR2","v":{"$error":"#VALUE!"}}]
[null,null,"「登録ＰＣ基幹技能者講習修了試験」"]
[null,null,"この入力シートで「様式－４、様式－５、様式－６」を作成する事が出来ます。",{"$nulls":47},"の部分を入力または選択して下さい。",{"$nulls":68},"年","月","日","本籍地","年","年","回"]
[{"$nulls":119},"07","01","01",null,"01","08","30"]
[null,"受験年　令和",{"$nulls":11},"年度",{"$nulls":3},"第",{"$nulls":5},"回",{"$nulls":4},"会員・非会員区分",{"$nulls":31},"(ホームページ",{"$nulls":8},"http://www.pckouji.jp/kousyu/index.html",{"$nulls":24},")",{"$nulls":24},"08","02","02",null,"02","09","31"]
[{"$nulls":119},"09","03","03",null,"03","10","32"]
[null,null,"申込日",{"$nulls":8},"令和",{"$nulls":6},"年",{"$nulls":5},"月",{"$nulls":5},"日",{"$nulls":32},"【提出書類】",{"$nulls":55},"10","04","04",null,"04","11","33",null,"画像2"]
[null,null,"申込者住所",{"$nulls":61},"①　申込書類送り状",{"$nulls":54},"11","05","05",null,"05","12","34",null,{"$f":"IF(O16=\"選択して下さい\",\"未選択2\",IF(O16=\"昭和\",\"昭和2\",\"平成2\"))","v":"未選択2"}]
[null,null,"申込者氏名",{"$nulls":61},"②　受験申込書（様式－４）",{"$nulls":54},"12","06","06",null,"06","13","35"]
[null,null,"受験地",{"$nulls":8},"富士教育訓練センター",{"$nulls":52},"③　講義受講免除申請書（様式－５）",{"$nulls":54},"13","07","07",null,"07","14","36",null,"画像1"]
[null,null,"試験月日",{"$nulls":8},"令和",{"$nulls":6},"年",{"$nulls":5},"月",{"$nulls":5},"日",{"$nulls":33},"④　受験票、写真票、受験料納付報告書（様式－６）",{"$nulls":54},14,"08","08",null,"08","15","37",null,{"$f":"IF(O16=\"選択して下さい\",\"未選択\",IF(O16=\"昭和\",\"昭和\",\"平成\"))","v":"未選択"}]
[{"$nulls":119},15,"09","09",null,"09","16","38"]
[null,"受 験 者",{"$nulls":4},"カナ",{"$nulls":57},"⑤　データベース管理費納付報告書",{"$nulls":54},16,"10","10",null,"10","17","39"]
[{"$nulls":6},"氏名",{"$nulls":57},"⑥　受験料及びデータベース管理費振込領収証等の写し",{"$nulls":54},17,"11","11",null,"11","18","40"]
[{"$nulls":6},"生年月日",{"$nulls":7},"選択して下さい",{"$nulls":10},"年",{"$nulls":5},"月",{"$nulls":5},"日生",{"$nulls":81},18,"12","12",null,"12","19","41"]
[{"$nulls":6},"本籍地",{"$nulls":112},19,null,"13",null,"13","20","42"]
[{"$nulls":6},"郵便番号",{"$nulls":10},"-",{"$nulls":101},20,null,"14",null,"14","21","43"]
[{"$nulls":6},"携帯番号",{"$nulls":12},"-",{"$nulls":6},"-",{"$nulls":6},"E-mail",{"$nulls":22},"※個人の携帯電話及びメールアドレスを入力して下さい。",{"$nulls":62},21,null,"15",null,"15","22","44"]
[{"$nulls":6},"住所",{"$nulls":112},22,null,"16",null,"16","23","45"]
[null,"勤 務 先",{"$nulls":4},"会社名",{"$nulls":112},23,null,"17",null,"17",null,"46"]
[{"$nulls":6},"所属",{"$nulls":112},24,null,"18",null,"18",null,"47"]
[{"$nulls":6},"職位",{"$nulls":112},25,null,"19",null,"19",null,"48"]
[{"$nulls":6},"郵便番号",{"$nulls":10},"-",{"$nulls":101},26,null,"20",null,"20",null,"49"]
[{"$nulls":6},"電話番号",{"$nulls":12},"-",{"$nulls":6},"-",{"$nulls":6},"FAX",{"$nulls":7},"-",{"$nulls":6},"-",{"$nulls":70},27,null,"21",null,"21",null,"50"]
[{"$nulls":6},"E - m a I l",{"$nulls":112},28,null,"22",null,"22",null,"51"]
[{"$nulls":6},"住所",{"$nulls":112},29,null,"23",null,"23",null,"52"]
[{"$nulls":119},30,null,"24",null,"24",null,"53"]
[null,null,"写真撮影日",{"$nulls":8},"令和",{"$nulls":6},"年",{"$nulls":5},"月",null,null," 「縦 3cm × 横 2.5cm 無帽・正面・無背景の顔写真。また、写真の裏には氏名を必ず記入して下さい。」",{"$nulls":91},31,null,"25",null,"25"]
[{"$nulls":121},"26",null,"26"]
[null,"受験料",{"$nulls":4},"納付日",{"$nulls":7},"令和",{"$nulls":6},"年",{"$nulls":5},"月",{"$nulls":5},"日",{"$nulls":87},"27",null,"27"]
[{"$nulls":6},"振込元銀行",{"$nulls":114},"28",null,"28"]
[{"$nulls":6},"納付金額",{"$nulls":7},{"v":16500,"d":"16,500円       "},{"$nulls":106},"29",null,"29"]
[{"$nulls":121},"30",null,"30"]
[null,null,"講義実績",{"$nulls":11},"第",{"$nulls":5},"回",null,null,"令和",{"$nulls":6},"年",{"$nulls":5},"月",{"$nulls":5},"日～",{"$nulls":3},"令和",{"$nulls":6},"年",{"$nulls":5},"月",{"$nulls":5},"日",{"$nulls":3},"「講義を受講した期間を入力して下さい。」",{"$nulls":51},"31",null,"31"]
[{"$nulls":123},"32"]
[null,null,"試験実績",{"$nulls":11},"第",{"$nulls":5},"回",null,null,"令和",{"$nulls":6},"年",{"$nulls":5},"月",{"$nulls":5},"日",null,null,"「終了試験を受験した日を入力して下さい。」",{"$nulls":77},"33"]
[{"$nulls":123},"34"]
[null,"保有資格",{"$nulls":4},"資　　格　　名",{"$nulls":22},"取 得 年 月 日",{"$nulls":17},"番　　　号",{"$nulls":75},"35"]
[{"$nulls":6},"職長・安全衛生責任者教育修了証",{"$nulls":25},"年",{"$nulls":5},"月",{"$nulls":5},"日",{"$nulls":15},"号",{"$nulls":62},"36"]
[{"$nulls":6},"コンクリート橋架設等作業主任者",{"$nulls":25},"年",{"$nulls":5},"月",{"$nulls":5},"日",{"$nulls":15},"号",{"$nulls":62},"37"]
[{"$nulls":6},"土木施工管理技士（１級・２級）",{"$nulls":25},"年",{"$nulls":5},"月",{"$nulls":5},"日",{"$nulls":15},"号",{"$nulls":62},"38"]
[{"$nulls":6},"建築施工管理技士（１級・２級）",{"$nulls":25},"年",{"$nulls":5},"月",{"$nulls":5},"日",{"$nulls":15},"号",{"$nulls":62},"39"]
[{"$nulls":123},"40"]
[{"$nulls":123},"41"]
[{"$nulls":123},"42"]
[{"$nulls":123},"43"]
[{"$nulls":123},"44"]
[{"$nulls":123},"45"]
[{"$nulls":123},"46"]
[{"$nulls":123},"47"]
[{"$nulls":123},"48"]
[{"$nulls":123},"49"]
[{"$nulls":123},"50"]
[{"$nulls":123},"51"]
[{"$nulls":123},"52"]
[{"$nulls":123},"53"]
[{"$nulls":123},"54"]
[{"$nulls":123},"55"]
[{"$nulls":123},"56"]
[{"$nulls":123},"57"]
[{"$nulls":123},"58"]
[{"$nulls":123},"59"]
[{"$nulls":123},"60"]
[{"$nulls":123},"61"]
[{"$nulls":123},"62"]
[{"$nulls":123},"63"]
[{"$nulls":123},"64"]
[{"$nulls":123},"65"]

{"sheet":"送り状","index":1,"n_rows":50,"n_cols":63,"rows_kept":50,"merged":[[0,45,1,48],[0,49,1,51],[0,52,1,53],[0,54,1,56],[0,57,1,58],[0,59,1,61],[0,62,1,63],[6,1,6,63],[9,1,9,40],[11,0,11,64],[13,1,14,1],[13,2,14,8],[13,9,14,9],[13,10,14,29],[13,30,18,34],[13,35,18,36],[13,37,18,40],[13,41,18,42],[13,43,18,47],[13,48,18,62],[15,1,18,1],[15,2,18,8],[15,9,18,9],[15,10,18,29],[21,1,24,1],[21,2,24,8],[21,9,24,9],[21,10,24,49],[21,50,24,53],[21,54,22,56],[21,57,22,62],[23,54,24,56],[23,57,24,62],[25,1,26,1],[25,2,26,8],[25,9,26,9],[25,10,26,15],[25,16,26,17],[25,18,26,23],[25,24,26,25],[25,26,26,31],[25,33,26,39],[25,41,26,46],[25,47,26,48],[25,49,26,54],[25,55,26,56],[25,57,26,62],[29,1,29,52],[30,1,31,4],[30,5,31,57],[30,58,31,62],[32,1,32,4],[32,5,32,57],[32,58,32,62],[33,1,33,4],[33,5,33,57],[33,58,33,62],[34,1,34,4],[34,5,34,57],[34,58,34,62],[35,1,35,4],[35,5,35,57],[35,58,35,62],[36,1,36,4],[36,5,36,57],[36,58,36,62],[48,21,50,21],[48,22,50,29],[48,30,50,30],[48,34,48,51],[48,53,48,57],[48,58,48,62],[49,31,50,51],[49,53,49,57],[49,58,49,62],[50,53,52,57],[50,58,52,62]]}
[{"$nulls":45},"令和",{"$nulls":3},{"$f":"IF(入力シート!P8=\"\",\"\",入力シート!P8)","v":""},null,null,"年",null,{"$f":"IF(入力シート!V8=\"\",\"\",入力シート!V8)","v":""},null,null,"月",null,{"$f":"IF(入力シート!AB8=\"\",\"\",入力シート!AB8)","v":""},null,null,"日"]
[]
[]
[null,"一般社団法人プレストレスト・コンクリート工事業協会 御中"]
[]
[]
[null,"登録ＰＣ基幹技能者認定講習修了試験受験申込書類送り状"]
[]
[]
[null,"下記のとおり受験申込関連書類を提出いたします。"]
[]
["記"]
[null,"1.受 験 者"]
[null,null,"カタカナ",{"$nulls":7},{"$f":"IF(入力シート!O14=\"\",\"\",入力シート!O14)","v":""},{"$nulls":19},"受験回",{"$nulls":4},"第",null,{"$f":"IF(入力シート!U6=\"\",\"\",入力シート!U6)","v":""},{"$nulls":3},"回",null,"受験地",{"$nulls":4},{"$f":"IF(入力シート!L11=\"\",\"\",入力シート!L11)","v":"富士教育訓練センター"}]
[]
[null,null,"氏名",{"$nulls":7},{"$f":"IF(入力シート!O15=\"\",\"\",入力シート!O15)","v":""}]
[]
[]
[]
[]
[null,"2.所属会社"]
[null,null,"会社名",{"$nulls":7},{"$f":"IF(入力シート!O21=\"\",\"\",入力シート!O21)","v":""},{"$nulls":39},"会員\n区分",{"$nulls":3},{"$f":"IF(入力シート!AN6=\"\",\"\",IF(入力シート!AN6=\"会　員\",\"○\",\"\"))","v":""},null,null,"会　員"]
[]
[{"$nulls":54},{"$f":"IF(入力シート!AN6=\"\",\"\",IF(入力シート!AN6=\"非会員\",\"○\",\"\"))","v":""},null,null,"非会員"]
[]
[null,null,"電話番号",{"$nulls":7},{"$f":"IF(入力シート!O25=\"\",\"\",入力シート!O25)","v":""},{"$nulls":5},"-",null,{"$f":"IF(入力シート!V25=\"\",\"\",入力シート!V25)","v":""},{"$nulls":5},"-",null,{"$f":"IF(入力シート!AC25=\"\",\"\",入力シート!AC25)","v":""},{"$nulls":6},"ＦＡＸ番号",{"$nulls":7},{"$f":"IF(入力シート!AK25=\"\",\"\",入力シート!AK25)","v":""},{"$nulls":5},"-",null,{"$f":"IF(入力シート!AR25=\"\",\"\",入力シート!AR25)","v":""},{"$nulls":5},"-",null,{"$f":"IF(入力シート!AY25=\"\",\"\",入力シート!AY25)","v":""}]
[]
[]
[null,"3.受験申込書類"]
[null,"※送付前に同封を確認後、以下の確認欄□内にチェックしてください。"]
[{"$nulls":5},"提 出 書 類 （ 様 式 ）",{"$nulls":52},"確認"]
[]
[null,"①",{"$nulls":3},"受験申込書（様式－４）",{"$nulls":52},"□"]
[null,"②",{"$nulls":3},"講義受講免除申請書（様式－５）",{"$nulls":52},"□"]
[null,"③",{"$nulls":3},"受験票、写真票、受験料納付報告書（様式－６）",{"$nulls":52},"□"]
[null,"④",{"$nulls":3},"データベース管理費納付報告書",{"$nulls":52},"□"]
[null,"⑤",{"$nulls":3},"受験料及びデータベース管理費振込領収証等の写し（合算での振込可）",{"$nulls":52},"□"]
{"$rows_empty":10}
[{"$nulls":21},"事務局使用欄"]
[{"$nulls":22},"受験番号",{"$nulls":8}," ※",{"$nulls":21},"確 認",{"$nulls":4},"受 付"]
[{"$nulls":53},"/",{"$nulls":4},"/"]

{"sheet":"様式－４","index":2,"n_rows":71,"n_cols":59,"rows_kept":71,"merged":[[0,47,1,60],[2,12,3,15],[2,16,3,18],[2,19,3,23],[2,24,3,26],[2,27,3,50],[6,0,8,59],[10,1,11,30],[12,4,14,9],[12,14,14,27],[12,28,14,30],[16,41,17,44],[16,45,17,47],[16,48,17,49],[16,50,17,52],[16,53,17,54],[16,55,17,57],[16,58,17,59],[19,25,21,32],[19,33,21,59],[22,25,24,32],[22,33,24,56],[22,57,24,59],[26,2,27,59],[28,1,29,31],[31,1,35,6],[31,7,35,22],[31,23,32,27],[31,28,35,31],[31,32,35,33],[31,34,35,36],[31,37,35,38],[31,39,35,41],[31,42,35,43],[31,44,35,49],[31,50,35,59],[33,23,33,27],[34,23,35,27],[38,1,39,1],[38,2,39,8],[38,9,39,9],[38,10,39,36],[38,37,43,39],[38,40,39,47],[38,48,39,51],[38,52,39,55],[38,56,39,59],[40,1,43,1],[40,2,43,8],[40,9,43,9],[40,10,43,36],[40,40,41,42],[40,43,41,47],[40,48,43,49],[40,50,43,51],[40,52,43,53],[40,54,43,55],[40,56,43,57],[40,58,43,59],[42,40,43,42],[42,43,43,47],[44,1,49,1],[44,2,49,8],[44,9,49,9],[44,10,45,10],[44,11,45,17],[44,18,45,18],[44,19,45,22],[44,23,45,24],[44,25,45,28],[44,30,44,36],[44,38,44,43],[44,44,44,45],[44,46,44,51],[44,52,44,53],[44,54,44,59],[45,30,45,36],[45,38,45,59],[46,10,49,10],[46,11,49,17],[46,18,49,18],[46,19,49,59],[50,1,64,1],[50,2,64,8],[50,9,64,9],[50,10,53,10],[50,11,53,17],[50,18,53,18],[50,19,53,48],[50,49,53,52],[50,53,51,54],[50,55,51,59],[52,53,53,54],[52,55,53,59],[54,10,56,10],[54,11,56,17],[54,18,56,18],[54,19,56,37],[54,38,56,38],[54,39,56,43],[54,44,56,44],[54,45,56,59],[57,10,58,10],[57,11,60,17],[57,18,58,18],[57,19,60,22],[57,23,60,24],[57,25,60,28],[57,29,58,29],[57,30,58,36],[57,37,58,37],[57,38,58,43],[57,44,58,45],[57,46,58,51],[57,52,58,53],[57,54,58,59],[59,30,59,36],[59,38,59,43],[59,44,59,45],[59,46,59,51],[59,52,59,53],[59,54,59,59],[60,30,60,36],[60,38,60,59],[61,10,64,10],[61,11,62,17],[61,18,64,18],[61,19,64,59],[63,11,64,17],[66,1,76,9],[66,12,67,14],[66,15,67,59],[68,15,69,35],[70,15,71,51],[79,1,80,10],[81,57,81,58]]}
[{"$nulls":47},"（様式－４）"]
[]
[{"$nulls":12},"令和",{"$nulls":3},{"$f":"IF(入力シート!K6=\"\",\"\",入力シート!K6)","v":""},null,null,"年度第",{"$nulls":4},{"$f":"IF(入力シート!U6=\"\",\"\",入力シート!U6)","v":""},null,null,"回　登録ＰＣ基幹技能者講習修了試験"]
[]
[]
[]
["受　　験　　申　　込　　書"]
[]
[]
[]
[null,"(一社)プレストレスト・コンクリート工事業協会"]
[]
[{"$nulls":4},"会長",{"$nulls":9},"藤井　源造",{"$nulls":13},"殿"]
[]
[]
[]
[{"$nulls":41},"令和",{"$nulls":3},{"$f":"IF(入力シート!P8=\"\",\"\",入力シート!P8)","v":""},null,null,"年",null,{"$f":"IF(入力シート!V8=\"\",\"\",入力シート!V8)","v":""},null,null,"月",null,{"$f":"IF(入力シート!AB8=\"\",\"\",入力シート!AB8)","v":""},null,null,"日"]
[]
[]
[{"$nulls":25},"申込者住所",{"$nulls":7},{"$f":"IF(入力シート!L9=\"\",\"\",入力シート!L9)","v":""}]
[]
[]
[{"$nulls":25},"申込者氏名",{"$nulls":7},{"$f":"IF(入力シート!L10=\"\",\"\",入力シート!L10)","v":""},{"$nulls":23},"㊞"]
[]
[]
[]
[null,null,"私 は、貴 協 会 が 定 め る 必 要 書 類 を 添 付 し、「 登 録 Ｐ Ｃ 基 幹 技 能 者 講 習 "]
[]
[null,"修 了 試 験 」の 受 験 を 申 し 込 み ま す 。"]
[]
[]
[null,"受験地",{"$nulls":5},{"$f":"IF(入力シート!L11=\"\",\"\",入力シート!L11)","v":"富士教育訓練センター"},{"$nulls":15},"試 験",{"$nulls":4},{"$f":"IF(入力シート!P12=\"\",\"\",入力シート!P12)","v":""},{"$nulls":3},"年",null,{"$f":"IF(入力シート!V12=\"\",\"\",入力シート!V12)","v":""},null,null,"月",null,{"$f":"IF(入力シート!AB12=\"\",\"\",入力シート!AB12)","v":""},null,null,"日",null,"本籍地",{"$nulls":5},{"$f":"IF(入力シート!O17=\"\",\"\",入力シート!O17)","v":""}]
[]
[]
[{"$nulls":23},"月 日"]
[]
[]
[]
[null,null,"カタカナ",{"$nulls":7},{"$f":"IF(入力シート!O14=\"\",\"\",入力シート!O14)","v":""},{"$nulls":26},"生年月日",null,null,"年　　号",{"$nulls":7},"年",{"$nulls":3},"月",{"$nulls":3},"日"]
[]
[null,null,"氏名",{"$nulls":7},{"$f":"IF(入力シート!O15=\"\",\"\",入力シート!O15)","v":""},{"$nulls":29},1,{"$nulls":7},{"$f":"IF(入力シート!W16=\"\",\"\",MID(入力シート!W16,1,1))","v":""},null,{"$f":"IF(入力シート!W16=\"\",\"\",MID(入力シート!W16,2,1))","v":""},null,{"$f":"IF(入力シート!AC16=\"\",\"\",MID(入力シート!AC16,1,1))","v":""},null,{"$f":"IF(入力シート!AC16=\"\",\"\",MID(入力シート!AC16,2,1))","v":""},null,{"$f":"IF(入力シート!AI16=\"\",\"\",MID(入力シート!AI16,1,1))","v":""},null,{"$f":"IF(入力シート!AI16=\"\",\"\",MID(入力シート!AI16,2,1))","v":""}]
[]
[{"$nulls":40},2]
[]
[null,null,"自宅\n住所",{"$nulls":8},"郵便番号",{"$nulls":7},{"$f":"IF(入力シート!O18=\"\",\"\",入力シート!O18)","v":""},{"$nulls":3},"-",null,{"$f":"IF(入力シート!T18=\"\",\"\",入力シート!T18)","v":""},{"$nulls":4},"携帯番号",{"$nulls":7},{"$f":"IF(入力シート!O19=\"\",\"\",入力シート!O19)","v":""},{"$nulls":5},"-",null,{"$f":"IF(入力シート!V19=\"\",\"\",入力シート!V19)","v":""},{"$nulls":5},"-",null,{"$f":"IF(入力シート!AC19=\"\",\"\",入力シート!AC19)","v":""}]
[{"$nulls":30},"E - m a i l",{"$nulls":7},{"$f":"IF(入力シート!AM19=\"\",\"\",入力シート!AM19)","v":""}]
[{"$nulls":11},"住所",{"$nulls":7},{"$f":"IF(入力シート!O20=\"\",\"\",入力シート!O20)","v":""}]
[]
[]
[]
[null,null,"勤務先",{"$nulls":8},"会社名",{"$nulls":7},{"$f":"IF(入力シート!O21=\"\",\"\",入力シート!O21)","v":""},{"$nulls":29},"会員\n区分",{"$nulls":3},{"$f":"IF(入力シート!AN6=\"\",\"\",IF(入力シート!AN6=\"会　員\",\"○\",\"\"))","v":""},null,"会　員"]
[]
[{"$nulls":53},{"$f":"IF(入力シート!AN6=\"\",\"\",IF(入力シート!AN6=\"非会員\",\"○\",\"\"))","v":""},null,"非会員"]
[]
[{"$nulls":11},"所属",{"$nulls":7},{"$f":"IF(入力シート!O22=\"\",\"\",入力シート!O22)","v":""},{"$nulls":19},"職位",{"$nulls":5},{"$f":"IF(入力シート!O23=\"\",\"\",入力シート!O23)","v":""}]
[]
[]
[{"$nulls":11},"郵便番号",{"$nulls":7},{"$f":"IF(入力シート!O24=\"\",\"\",入力シート!O24)","v":""},{"$nulls":3},"-",null,{"$f":"IF(入力シート!T24=\"\",\"\",入力シート!T24)","v":""},{"$nulls":4},"電話番号",{"$nulls":7},{"$f":"IF(入力シート!O25=\"\",\"\",入力シート!O25)","v":""},{"$nulls":5},"-",null,{"$f":"IF(入力シート!V25=\"\",\"\",入力シート!V25)","v":""},{"$nulls":5},"-",null,{"$f":"IF(入力シート!AC25=\"\",\"\",入力シート!AC25)","v":""}]
[]
[{"$nulls":30},"ＦＡＸ番号",{"$nulls":7},{"$f":"IF(入力シート!AK25=\"\",\"\",入力シート!AK25)","v":""},{"$nulls":5},"-",null,{"$f":"IF(入力シート!AR25=\"\",\"\",入力シート!AR25)","v":""},{"$nulls":5},"-",null,{"$f":"IF(入力シート!AY25=\"\",\"\",入力シート!AY25)","v":""}]
[{"$nulls":30},"E - m a i l",{"$nulls":7},{"$f":"IF(入力シート!O26=\"\",\"\",入力シート!O26)","v":""}]
[{"$nulls":11},"会社",{"$nulls":7},{"$f":"IF(入力シート!O27=\"\",\"\",入力シート!O27)","v":""}]
[]
[{"$nulls":11},"住所"]
[]
[]
[null,"写　　真",{"$nulls":10},"注：",null,null,"縦 3cm × 横 2.5cmの無帽・正面・無背景の顔写真を左記の欄"]
[]
[{"$nulls":15},"にノリ付けしてください。"]
[]
[{"$nulls":15},"また、写真の裏には氏名を必ず記入願います。"]

{"sheet":"様式－５","index":3,"n_rows":50,"n_cols":62,"rows_kept":50,"merged":[[2,0,3,63],[7,1,8,30],[9,4,11,9],[9,14,11,27],[9,28,11,30],[13,43,14,46],[13,47,14,49],[13,50,14,51],[13,52,14,54],[13,55,14,56],[13,57,14,59],[13,60,14,61],[16,27,18,34],[16,35,18,61],[19,27,21,34],[19,35,21,58],[19,59,21,61],[24,2,25,61],[26,1,27,29],[32,1,32,9],[32,10,32,42],[32,43,32,61],[33,1,33,3],[33,4,33,6],[33,7,33,9],[33,10,33,12],[33,13,33,15],[33,16,33,18],[33,19,33,21],[33,22,33,24],[33,25,33,27],[33,28,33,30],[33,31,33,33],[33,34,33,36],[33,37,33,39],[33,40,33,42],[33,43,33,61],[39,1,39,9],[39,10,39,42],[39,43,39,61],[40,1,40,3],[40,4,40,6],[40,7,40,9],[40,15,40,18],[40,19,40,22],[40,23,40,25],[40,26,40,28],[40,29,40,31],[40,32,40,34],[40,35,40,38],[40,43,40,61],[45,1,45,26],[45,27,45,45],[45,46,45,61],[46,1,46,2],[46,3,46,25],[46,27,46,30],[46,31,46,33],[46,34,46,36],[46,37,46,39],[46,40,46,42],[46,43,46,45],[46,46,46,58],[46,59,46,61],[47,1,47,2],[47,3,47,25],[47,27,47,30],[47,31,47,33],[47,34,47,36],[47,37,47,39],[47,40,47,42],[47,43,47,45],[47,46,47,58],[47,59,47,61],[48,1,48,2],[48,3,48,25],[48,27,48,30],[48,31,48,33],[48,34,48,36],[48,37,48,39],[48,40,48,42],[48,43,48,45],[48,46,48,58],[48,59,48,61],[49,1,49,2],[49,3,49,25],[49,27,49,30],[49,31,49,33],[49,34,49,36],[49,37,49,39],[49,40,49,42],[49,43,49,45],[49,46,49,58],[49,59,49,61]]}
[{"$nulls":61},"(様式－５）"]
[]
["講 義 受 講 免 除 申 請 書"]
[]
[]
[]
[]
[null,"(一社)プレストレスト・コンクリート工事業協会"]
[]
[{"$nulls":4},"会長",{"$nulls":9},"藤井　源造",{"$nulls":13},"殿"]
[]
[]
[]
[{"$nulls":43},"令和",{"$nulls":3},{"$f":"IF(入力シート!P8=\"\",\"\",入力シート!P8)","v":""},null,null,"年",null,{"$f":"IF(入力シート!V8=\"\",\"\",入力シート!V8)","v":""},null,null,"月",null,{"$f":"IF(入力シート!AB8=\"\",\"\",入力シート!AB8)","v":""},null,null,"日"]
[]
[]
[{"$nulls":27},"申込者住所",{"$nulls":7},{"$f":"IF(入力シート!L9=\"\",\"\",入力シート!L9)","v":""}]
[]
[]
[{"$nulls":27},"申込者氏名",{"$nulls":7},{"$f":"IF(入力シート!L10=\"\",\"\",入力シート!L10)","v":""},{"$nulls":23},"㊞"]
[]
[]
[]
[]
[null,null,"私は、貴協会の登録ＰＣ基幹技能者講習修了試験受験に伴い、講義"]
[]
[null,"受講の免除を申請いたします。"]
[]
[]
[null,"１.講義受講実績"]
[null,"　（登録ＰＣ基幹技能者講習における講義の受講実績）"]
[]
[null,"講 習 名 称",{"$nulls":8},"受　　講　　期　　間",{"$nulls":32},"受　　講　　地"]
[null,"第",null,null,{"$f":"IF(入力シート!R35=\"\",\"\",入力シート!R35)","v":""},null,null,"回",null,null,{"$f":"IF(入力シート!X35=\"\",\"\",入力シート!X35)","v":"令和"},null,null,{"$f":"IF(入力シート!AB35=\"\",\"\",入力シート!AB35)","v":""},null,null,"年",null,null,{"$f":"IF(入力シート!AH35=\"\",\"\",入力シート!AH35)","v":""},null,null,"月",null,null,{"$f":"IF(入力シート!AN35=\"\",\"\",入力シート!AN35)","v":""},null,null,"日～",null,null,{"$f":"IF(入力シート!BE35=\"\",\"\",入力シート!BE35)","v":""},null,null,"月",null,null,{"$f":"IF(入力シート!BK35=\"\",\"\",入力シート!BK35)","v":""},null,null,"日",null,null,"富士教育訓練センター"]
[]
[]
[null,"２.修了試験受験実績"]
[null,"　（登録ＰＣ基幹技能者講習における修了試験の受験実績）"]
[]
[null,"試 験 名 称",{"$nulls":8},"受　　験　　年　　月　　日",{"$nulls":32},"受　　験　　地"]
[null,"第",null,null,{"$f":"IF(入力シート!R37=\"\",\"\",入力シート!R37)","v":""},null,null,"回",{"$nulls":7},{"$f":"IF(入力シート!X37=\"\",\"\",入力シート!X37)","v":"令和"},{"$nulls":3},{"$f":"IF(入力シート!AB37=\"\",\"\",入力シート!AB37)","v":""},{"$nulls":3},"年",null,null,{"$f":"IF(入力シート!AH37=\"\",\"\",入力シート!AH37)","v":""},null,null,"月",null,null,{"$f":"IF(入力シート!AN37=\"\",\"\",入力シート!AN37)","v":""},null,null,"日",{"$nulls":7},"富士教育訓練センター"]
[]
[]
[null,"３.保有資格"]
[]
[null,"資　　　格　　　名",{"$nulls":25},"取 得 年 月 日",{"$nulls":18},"番        号"]
[null,"○",null,"職長・安全衛生責任者教育修了証",{"$nulls":23},{"$f":"IF(入力シート!AD40=\"\",\"\",入力シート!AD40)","v":""},{"$nulls":3},"年",null,null,{"$f":"IF(入力シート!AJ40=\"\",\"\",入力シート!AJ40)","v":""},null,null,"月",null,null,{"$f":"IF(入力シート!AP40=\"\",\"\",入力シート!AP40)","v":""},null,null,"日",null,null,{"$f":"IF(入力シート!AV40=\"\",\"\",入力シート!AV40)","v":""},{"$nulls":12},"号"]
[null,"○",null,"コンクリート橋架設等作業主任者",{"$nulls":23},{"$f":"IF(入力シート!AD41=\"\",\"\",入力シート!AD41)","v":""},{"$nulls":3},"年",null,null,{"$f":"IF(入力シート!AJ41=\"\",\"\",入力シート!AJ41)","v":""},null,null,"月",null,null,{"$f":"IF(入力シート!AP41=\"\",\"\",入力シート!AP41)","v":""},null,null,"日",null,null,{"$f":"IF(入力シート!AV41=\"\",\"\",入力シート!AV41)","v":""},{"$nulls":12},"号"]
[null,"○",null,"土木施工管理技士（１級・２級）",{"$nulls":23},{"$f":"IF(入力シート!AD42=\"\",\"\",入力シート!AD42)","v":""},{"$nulls":3},"年",null,null,{"$f":"IF(入力シート!AJ42=\"\",\"\",入力シート!AJ42)","v":""},null,null,"月",null,null,{"$f":"IF(入力シート!AP42=\"\",\"\",入力シート!AP42)","v":""},null,null,"日",null,null,{"$f":"IF(入力シート!AV42=\"\",\"\",入力シート!AV42)","v":""},{"$nulls":12},"号"]
[null,"○",null,"建築施工管理技士（１級・２級）",{"$nulls":23},{"$f":"IF(入力シート!AD43=\"\",\"\",入力シート!AD43)","v":""},{"$nulls":3},"年",null,null,{"$f":"IF(入力シート!AJ43=\"\",\"\",入力シート!AJ43)","v":""},null,null,"月",null,null,{"$f":"IF(入力シート!AP43=\"\",\"\",入力シート!AP43)","v":""},null,null,"日",null,null,{"$f":"IF(入力シート!AV43=\"\",\"\",入力シート!AV43)","v":""},{"$nulls":12},"号"]

{"sheet":"様式－６","index":4,"n_rows":59,"n_cols":61,"rows_kept":59,"merged":[[2,0,2,59],[3,9,4,12],[3,13,4,15],[3,16,4,20],[3,21,4,23],[3,24,4,50],[5,0,5,59],[7,1,9,1],[7,2,9,9],[7,10,9,10],[7,11,9,28],[7,29,9,29],[7,30,9,37],[7,38,9,38],[7,42,7,59],[8,39,9,59],[10,2,10,9],[10,11,10,31],[10,32,12,34],[10,35,12,59],[11,1,12,1],[11,2,12,9],[11,10,12,10],[11,11,12,31],[13,1,14,1],[13,2,14,9],[13,10,14,10],[13,19,14,26],[13,27,14,29],[13,30,14,32],[13,33,14,35],[13,36,14,38],[13,39,14,41],[13,42,14,45],[16,4,16,10],[16,13,16,16],[16,17,16,19],[16,20,16,22],[16,23,16,25],[16,26,16,28],[16,29,16,31],[16,32,16,34],[16,37,16,38],[17,4,17,10],[18,4,18,10],[20,24,21,35],[23,9,24,12],[23,13,24,15],[23,16,24,20],[23,21,24,23],[23,24,24,50],[25,0,25,59],[27,2,29,2],[27,3,29,10],[27,11,29,11],[27,12,29,29],[27,31,30,31],[27,32,30,39],[27,40,30,40],[27,44,27,59],[28,41,30,59],[31,27,31,34],[31,36,31,59],[32,3,38,11],[32,26,34,26],[32,27,34,34],[32,35,34,35],[32,36,34,59],[35,26,36,26],[35,27,36,34],[35,35,36,35],[35,36,36,38],[35,39,36,43],[35,44,36,46],[35,47,36,49],[35,50,36,52],[35,53,36,55],[35,56,36,59],[38,20,38,23],[38,24,38,59],[39,24,39,48],[40,24,40,54],[43,24,44,35],[46,9,47,12],[46,13,47,15],[46,16,47,20],[46,21,47,23],[46,24,47,50],[48,0,48,59],[50,1,52,1],[50,2,52,9],[50,10,52,10],[50,11,52,31],[50,32,52,32],[50,33,52,40],[50,41,52,41],[50,42,52,59],[53,1,54,1],[53,2,54,9],[53,10,54,10],[53,11,54,13],[53,14,54,16],[53,17,54,19],[53,20,54,22],[53,23,54,25],[53,26,54,28],[53,29,54,31],[53,32,59,34],[53,36,54,49],[53,51,54,58],[55,1,56,1],[55,2,56,9],[55,10,56,10],[55,11,56,31],[57,1,59,1],[57,2,59,9],[57,10,59,10],[57,11,59,28],[57,29,58,31],[57,35,57,40],[57,41,57,50],[57,51,57,59],[58,35,59,40],[58,41,59,50],[58,51,59,59],[59,29,59,31]]}
[{"$nulls":60}," （様式－６）"]
[]
["(一社)プレストレスト・コンクリート工事業協会"]
[{"$nulls":9},"令和",{"$nulls":3},{"$f":"IF(入力シート!K6=\"\",\"\",入力シート!K6)","v":""},null,null,"年度第",{"$nulls":4},{"$f":"IF(入力シート!U6=\"\",\"\",入力シート!U6)","v":""},null,null,"回　登録ＰＣ基幹技能者講習修了試験"]
[]
["受　　　験　　　票"]
[]
[null,null,"受験地",{"$nulls":8},{"$f":"IF(入力シート!L11=\"\",\"\",入力シート!L11)","v":"富士教育訓練センター"},{"$nulls":18},"受験番号",{"$nulls":8}," ※"]
[]
[]
[null,null,"カタカナ",{"$nulls":8},{"$f":"IF(入力シート!O14=\"\",\"\",入力シート!O14)","v":""},{"$nulls":20},"会社名",null,null,{"$f":"IF(入力シート!O21=\"\",\"\",入力シート!O21)","v":""}]
[null,null,"氏名",{"$nulls":8},{"$f":"IF(入力シート!O15=\"\",\"\",入力シート!O15)","v":""}]
[]
[null,null,"生年月日",{"$nulls":24},{"$f":"IF(入力シート!W16=\"\",\"\",入力シート!W16)","v":""},null,null,"年",null,null,{"$f":"IF(入力シート!AC16=\"\",\"\",入力シート!AC16)","v":""},null,null,"月",null,null,{"$f":"IF(入力シート!AI16=\"\",\"\",入力シート!AI16)","v":""},null,null,"日生"]
[]
[]
[null,"1 .",null,null,"試験日時",{"$nulls":8},"令和",{"$nulls":3},{"$f":"IF(入力シート!P12=\"\",\"\",入力シート!P12)","v":""},null,null,"年",null,null,{"$f":"IF(入力シート!V12=\"\",\"\",入力シート!V12)","v":""},null,null,"月",null,null,{"$f":"IF(入力シート!AB12=\"\",\"\",入力シート!AB12)","v":""},null,null,"日",null,null,"（",null,{"$f":"IF(入力シート!P12=\"\",\"\",入力シート!DT2)","v":""},null,"）"]
[null,"2 .",null,null,"受付開始",{"$nulls":8}," １３ 時 ００ 分から"]
[null,"3 .",null,null,"入校式",{"$nulls":8}," １３ 時 ５０ 分から"]
[]
[{"$nulls":24},"(切り離さないこと)"]
[]
[]
[{"$nulls":9},"令和",{"$nulls":3},{"$f":"IF(N4=\"\",\"\",N4)","v":""},null,null,"年度第",{"$nulls":4},{"$f":"IF(V4=\"\",\"\",V4)","v":""},null,null,"回　登録ＰＣ基幹技能者講習修了試験"]
[]
["写　　　真　　　票"]
[]
[{"$nulls":3},"受験地",{"$nulls":8},{"$f":"IF(L8=\"\",\"\",L8)","v":"富士教育訓練センター"},{"$nulls":19},"受験番号",{"$nulls":8}," ※"]
[]
[]
[]
[{"$nulls":27},"カタカナ",{"$nulls":8},{"$f":"IF(L11=\"\",\"\",L11)","v":""}]
[{"$nulls":3},"写　真",{"$nulls":23},"氏名",{"$nulls":8},{"$f":"IF(L12=\"\",\"\",L12)","v":""}]
[]
[]
[{"$nulls":27},"撮影年月",{"$nulls":11},"令和",{"$nulls":4},{"$f":"IF(入力シート!P29=\"\",\"\",入力シート!P29)","v":""},null,null,"年",null,null,{"$f":"IF(入力シート!V29=\"\",\"\",入力シート!V29)","v":""},null,null,"月"]
[]
[]
[{"$nulls":20},"注：",{"$nulls":3},"縦 3cm × 横 2.5cmの無帽・正面・無背景の顔写真"]
[{"$nulls":24},"を写真の欄にノリ付けしてください。"]
[{"$nulls":24},"また、写真の裏には氏名を必ず記入願います。"]
[]
[]
[{"$nulls":24},"(切り離さないこと)"]
[]
[]
[{"$nulls":9},"令和",{"$nulls":3},{"$f":"IF(N4=\"\",\"\",N4)","v":""},null,null,"年度第",{"$nulls":4},{"$f":"IF(V4=\"\",\"\",V4)","v":""},null,null,"回　登録ＰＣ基幹技能者講習修了試験"]
[]
["受 験 料 納 付 報 告 書"]
[]
[null,null,"氏名",{"$nulls":8},{"$f":"IF(L12=\"\",\"\",L12)","v":""},{"$nulls":21},"会社名",{"$nulls":8},{"$f":"IF(AJ11=\"\",\"\",AJ11)","v":""}]
[]
[]
[null,null,"納付月日",{"$nulls":8},"令和",null,null,{"$f":"IF(入力シート!S31=\"\",\"\",入力シート!S31)","v":""},null,null,"年",null,null,{"$f":"IF(入力シート!Y31=\"\",\"\",入力シート!Y31)","v":""},null,null,"月",null,null,{"$f":"IF(入力シート!AE31=\"\",\"\",入力シート!AE31)","v":""},null,null,"日",null,null,"納付額内訳",{"$nulls":3},"受講料",{"$nulls":14},{"v":16500,"d":"16,500円 "}]
[]
[null,null,"振込元銀行",{"$nulls":8},{"$f":"IF(入力シート!O32=\"\",\"\",入力シート!O32)","v":""}]
[]
[null,null,"納付金額",{"$nulls":8},{"$f":"IF(入力シート!O33=\"\",\"\",入力シート!O33)","v":{"v":16500,"d":"16,500 "}},{"$nulls":17},"円",{"$nulls":5},"税 率",{"$nulls":5},"本体価格",{"$nulls":9},"消 費 税"]
[{"$nulls":35},{"v":0.1,"d":"10%"},{"$nulls":5},{"v":15000,"d":"15,000 "},{"$nulls":9},{"v":1500,"d":"1,500 "}]